BEGIN:VCALENDAR
VERSION:2.0
PRODID:-//Library Market//iCal Export//EN
BEGIN:VEVENT
SUMMARY:Hands-on Intro to AI Tools
UID:99480
DTSTAMP:20260424T203900Z
DTSTART:20260719T160000Z
DTEND:20260719T173000Z
LOCATION:Vernon Area Public Library, 300 Olde Half Day Rd, Lincolnshire, I
 L 60069, United States
ROOM: Youth Program Room
DESCRIPTION:Hands-On Intro to AI Tools AI Overview - how they work and wh
 at&#039;s out there.AI Issues - alignment concerns, training data controve
 rsies, and environmental impacts.Hands-on exercises with time to explore.P
 rerequisite: Basic computer skills.This event is free and open to ages 18 
 &amp; up. Signup is required. Sign up online here, by telephone at 224-54
 3-1485, or in person at the library.
URL:https://calendar.vapld.info/event/ai-class-tbd-99480
END:VEVENT
END:VCALENDAR
