BEGIN:VCALENDAR
VERSION:2.0
PRODID:-//Library Market//iCal Export//EN
BEGIN:VEVENT
SUMMARY:AI Projects and Presentations
UID:99478
DTSTAMP:20260424T123600Z
DTSTART:20260618T000000Z
DTEND:20260618T013000Z
LOCATION:Vernon Area Public Library, 300 Olde Half Day Rd, Lincolnshire, I
 L 60069, United States
ROOM: Youth Program Room
DESCRIPTION:AI Projects and PresentationsEver wondered how AI tools could 
 help with the things you actually care about? We’ll walk through live de
 monstrations and explore practical, creative ways to put AI to work on rea
 l-life projects — from planning a dream vacation to getting unstuck on a
  hobby, organizing a family event, or simply drafting something you&#039;v
 e been putting off. Basic computer skills are recommended.  A free Googl
 e account is recommended to participate fully.This event is free and open 
 to ages 18 &amp; up. Signup is required. Sign up online here, by telephone
  at 224-543-1485, or in person at the library.
URL:https://calendar.vapld.info/event/ai-class-tbd-99478
END:VEVENT
END:VCALENDAR
