BEGIN:VCALENDAR
VERSION:2.0
PRODID:-//Library Market//iCal Export//EN
BEGIN:VEVENT
SUMMARY:Bilingual French Storytime with The Language Labs
UID:99007
DTSTAMP:20260424T222700Z
DTSTART:20260730T150000Z
DTEND:20260730T153000Z
LOCATION:Vernon Area Public Library, 300 Olde Half Day Rd, Lincolnshire, I
 L 60069, United States
ROOM: Meeting Room
DESCRIPTION:Ages 0-6 with an adult. Enjoy stories and songs while explori
 ng an introduction to French in this interactive storytime with The Langua
 ge Labs.This event is free and open to children ages 0-6 with an adult. Si
 gnup is required. Sign up online here, by telephone at 224-543-1486, or in
  person at the library.
URL:https://calendar.vapld.info/event/bilingual-french-storytime-language-
 labs-99007
END:VEVENT
END:VCALENDAR
