BEGIN:VCALENDAR
VERSION:2.0
PRODID:-//Library Market//iCal Export//EN
BEGIN:VEVENT
SUMMARY:Dog Man Party
UID:98963
DTSTAMP:20260424T123600Z
DTSTART:20260618T190000Z
DTEND:20260618T200000Z
LOCATION:Vernon Area Public Library, 300 Olde Half Day Rd, Lincolnshire, I
 L 60069, United States
ROOM: Meeting Room
DESCRIPTION:Grades 2-5. Celebrate Dav Pilkey&#039;s popular Dog Man seri
 es with games and activities.This event is free and open to children in gr
 ades 2-5. Signup is required. Sign up online here, by telephone at 224-543
 -1486, or in person at the library. 
URL:https://calendar.vapld.info/event/dog-man-party-98963
END:VEVENT
END:VCALENDAR
