BEGIN:VCALENDAR
VERSION:2.0
PRODID:-//Library Market//iCal Export//EN
BEGIN:VEVENT
SUMMARY:Bluestem Award Book Discussion
UID:98962
DTSTAMP:20260424T191400Z
DTSTART:20260716T000000Z
DTEND:20260716T010000Z
LOCATION:Vernon Area Public Library, 300 Olde Half Day Rd, Lincolnshire, I
 L 60069, United States
ROOM: Meeting Room
DESCRIPTION:Grades 3-5 with an adult. This parent and child book group wi
 ll discuss A Strange Thing Happened at Cherry Hall by Jasmine Warga. Pick 
 up a copy of the book (yours to keep) at the Youth Desk. This event is fr
 ee and open to children in grades 3-5 with an adult. Signup is required. S
 ign up online here, by telephone at 224-543-1486, or in person at the libr
 ary.
URL:https://calendar.vapld.info/event/bluestem-award-book-discussion-98962
END:VEVENT
END:VCALENDAR
