BEGIN:VCALENDAR
VERSION:2.0
PRODID:-//Library Market//iCal Export//EN
BEGIN:VEVENT
SUMMARY:Lego Robotics (Grades 3-5)
UID:98961
DTSTAMP:20260424T222700Z
DTSTART:20260731T000000Z
DTEND:20260731T010000Z
LOCATION:Vernon Area Public Library, 300 Olde Half Day Rd, Lincolnshire, I
 L 60069, United States
ROOM: Meeting Room
DESCRIPTION:Grades 3-5.  Calling all Lego fans!  Build and program an in
 teractive Lego creation using our new Spike Essentials kits in this fun, h
 ands-on program.This event is free and open to grades 3-5. Signup is requi
 red. Sign up online here, by telephone at 224-543-1486, or in person at th
 e library.
URL:https://calendar.vapld.info/event/lego-robotics-grades-3-5-98961
END:VEVENT
END:VCALENDAR
