BEGIN:VCALENDAR
VERSION:2.0
PRODID:-//Library Market//iCal Export//EN
BEGIN:VEVENT
SUMMARY:Lego Robotics (Grades K-2)
UID:98960
DTSTAMP:20260424T222700Z
DTSTART:20260730T213000Z
DTEND:20260730T223000Z
LOCATION:Vernon Area Public Library, 300 Olde Half Day Rd, Lincolnshire, I
 L 60069, United States
ROOM: Meeting Room
DESCRIPTION:Grades K-2 with an adult.  Calling all Lego fans!  Build and
  program an interactive Lego creation using our new Spike Essentials kits 
 in this fun, hands-on program.This event is free and open to grades K-2 wi
 th an adult. Signup is required. Sign up online here, by telephone at 224-
 543-1486, or in person at the library.
URL:https://calendar.vapld.info/event/lego-robotics-grades-k-2-98960
END:VEVENT
END:VCALENDAR
