BEGIN:VCALENDAR
VERSION:2.0
PRODID:-//Library Market//iCal Export//EN
BEGIN:VEVENT
SUMMARY:Lego Master Builders (7 pm)
UID:98684
DTSTAMP:20260425T233600Z
DTSTART:20260604T000000Z
DTEND:20260604T010000Z
LOCATION:Vernon Area Public Library, 300 Olde Half Day Rd, Lincolnshire, I
 L 60069, United States
ROOM: Meeting Room
DESCRIPTION:Grades K-5. Love building with Legos? Work through a challenge
 , then let your imagination run wild during free building time.  Please 
 choose one session only. This event is free and open to all children in gr
 ades K-5. Signup is required. Sign up online here, by telephone at 224-543
 -1486, or in person at the library.
URL:https://calendar.vapld.info/event/lego-master-builders-7pm-98684
END:VEVENT
END:VCALENDAR
