BEGIN:VCALENDAR
VERSION:2.0
PRODID:-//Library Market//iCal Export//EN
BEGIN:VEVENT
SUMMARY:Great Decisions Discussion Group
UID:98623
DTSTAMP:20260420T230000Z
DTSTART:20261021T153000Z
DTEND:20261021T170000Z
LOCATION:Vernon Area Public Library, 300 Olde Half Day Rd, Lincolnshire, I
 L 60069, United States
ROOM: Meeting Room
DESCRIPTION:In-person onlyDiscuss chapter 7 of the Foreign Policy Associat
 ion&#039;s Great Decisions briefing book. Facilitated by Gary Midkiff. 
 Register each person planning to attend. Registered individuals will rece
 ive instructions for picking up the book at the library.
URL:https://calendar.vapld.info/event/great-decisions-discussion-group-986
 23
END:VEVENT
END:VCALENDAR
