BEGIN:VCALENDAR
VERSION:2.0
PRODID:-//Library Market//iCal Export//EN
BEGIN:VEVENT
SUMMARY:Great Decisions Discussion Group (Online)
UID:98614
DTSTAMP:20260421T042300Z
DTSTART:20260911T180000Z
DTEND:20260911T193000Z
LOCATION:
DESCRIPTION:Online onlyDiscuss chapter 6 of the Foreign Policy Association
 &#039;s Great Decisions briefing book. Facilitated by Gary Midkiff. Reg
 ister one person per household. Registered individuals will receive instr
 uctions for picking up the book at the library.
URL:https://calendar.vapld.info/event/great-decisions-discussion-group-onl
 ine-98614
END:VEVENT
END:VCALENDAR
