BEGIN:VCALENDAR
VERSION:2.0
PRODID:-//Library Market//iCal Export//EN
BEGIN:VEVENT
SUMMARY:Saving Seeds for Tomorrow&#039;s Garden
UID:98605
DTSTAMP:20260421T210300Z
DTSTART:20260820T000000Z
DTEND:20260820T010000Z
LOCATION:Vernon Area Public Library, 300 Olde Half Day Rd, Lincolnshire, I
 L 60069, United States
ROOM: Meeting Room
DESCRIPTION:Saving seeds from your garden can help you save money, become 
 more self-sufficient, and adapt seeds to your local conditions. Garden coa
 ch and educator Amy Powers of Powers Plants shares practical techniques fo
 r collecting, cleaning, and storing seeds from vegetables, herbs, annual f
 lowers, and native perennials so you can feel confident trying it at home.
  This event is free and open to all. Signup is required. Sign up online h
 ere, by telephone at 224-543-1485, or in person at the library.  
URL:https://calendar.vapld.info/event/saving-seeds-98605
END:VEVENT
END:VCALENDAR
