BEGIN:VCALENDAR
VERSION:2.0
PRODID:-//Library Market//iCal Export//EN
BEGIN:VEVENT
SUMMARY:Get Your Docs in a Row [Online]
UID:98604
DTSTAMP:20260424T203900Z
DTSTART:20260722T233000Z
DTEND:20260723T003000Z
LOCATION:
DESCRIPTION:Help your family avoid chaos and heartache during a crisis. Sh
 ire Law Group shares tips about organizing your personal documents before 
 they are needed.Does your family know what accounts you have, how to pay b
 ills to help with incapacity or pay funeral expenses, how to access your h
 ome and take care of household affairs, how to deal with your mortgage or 
 a lease agreement, where you keep important documents, what are your month
 ly bills and how they are paid? Without documents and planning in place, y
 our family and friends could find themselves in multiple crises, fighting 
 amongst themselves and scrambling to take care of you or your affairs.This
  event is free and open to all. Signup is required. Sign up online here, b
 y telephone at 224-543-1485, or in person at the library.
URL:https://calendar.vapld.info/event/get-your-docs-row-online-98604
END:VEVENT
END:VCALENDAR
