BEGIN:VCALENDAR
VERSION:2.0
PRODID:-//Library Market//iCal Export//EN
BEGIN:VEVENT
SUMMARY:Choose Your Own Adventure: A Book Club
UID:98507
DTSTAMP:20260421T082600Z
DTSTART:20260713T233000Z
DTEND:20260714T013000Z
LOCATION:Vernon Area Public Library, 300 Olde Half Day Rd, Lincolnshire, I
 L 60069, United States
ROOM: Meeting Room
DESCRIPTION:Choose your own adventure by bringing a book or audiobook and 
 read silently with other readers. From 6:30-7:30 pm, we will silently read
 . From 7:30-8:30 pm, chat with others or continue reading. The choice is y
 ours! Some snacks will be provided, or bring your own. Also, find us on M
 eetup. This event is free and open to all adults. Signup is required. Sig
 n up online here, by telephone at 224-543-1485, or in person at the librar
 y.
URL:https://calendar.vapld.info/event/choose-your-own-adventure-book-club-
 98507
END:VEVENT
END:VCALENDAR
