BEGIN:VCALENDAR
VERSION:2.0
PRODID:-//Library Market//iCal Export//EN
BEGIN:VEVENT
SUMMARY:Dinosaur Garden
UID:98063
DTSTAMP:20260424T191400Z
DTSTART:20260713T190000Z
DTEND:20260713T200000Z
LOCATION:Vernon Area Public Library, 4 Indian Creek Rd., Lincolnshire, IL 
 60069, United States
ROOM: Library Learning Garden
DESCRIPTION:Grades K-5. Become landscape architects of the Jurassic era, d
 esigning, planting, and decorating your own tiny, living dinosaur world. A
 ll supplies provided.This event is free and open to children grades K-5. Â
  Signup is required. Sign up online here, by telephone at 224-543-1486, or
  in person at the library.
URL:https://calendar.vapld.info/event/dinosaur-garden-98063
END:VEVENT
END:VCALENDAR
