BEGIN:VCALENDAR
VERSION:2.0
PRODID:-//Library Market//iCal Export//EN
BEGIN:VEVENT
SUMMARY:Kahoot Trivia: United States Edition
UID:97866
DTSTAMP:20260424T154900Z
DTSTART:20260702T000000Z
DTEND:20260702T010000Z
LOCATION:Vernon Area Public Library, 300 Olde Half Day Rd, Lincolnshire, I
 L 60069, United States
ROOM: Meeting Room
DESCRIPTION:Grades K-5 with an adult. Celebrate the 250th anniversary of t
 he United States with a fun and challenging trivia adventure through Unite
 d States history, folklore, music, our 50 states, and cuisine. This event
  is free and open to children in grades K-5 with an adult. Signup is requi
 red. Sign up online here, by telephone at 224-543-1486, or in person at th
 e library.
URL:https://calendar.vapld.info/event/kahoot-trivia-united-states-edition-
 97866
END:VEVENT
END:VCALENDAR
