BEGIN:VCALENDAR
VERSION:2.0
PRODID:-//Library Market//iCal Export//EN
BEGIN:VEVENT
SUMMARY:Yoga Workshop in the Garden
UID:97741
DTSTAMP:20260421T114600Z
DTSTART:20260709T143000Z
DTEND:20260709T153000Z
LOCATION:Vernon Area Public Library, 4 Indian Creek Rd., Lincolnshire, IL 
 60069, United States
ROOM: Library Learning Garden
DESCRIPTION:Enjoy an all-level yoga class in the Learning Garden with Kris
  Rumzis of Just Bee Yoga. Breathe deeply, move gently, and reconnect with 
 yourself as you practice surrounded by nature’s beauty. This outdoor exp
 erience invites you to slow down, soften your body, and awaken your senses
  through mindful movement and breath.  Please bring a yoga mat and water
  bottle. In the event of inclement weather, the session will be held indoo
 rs.This program is part of the library&#039;s yearlong Wellness Series.Thi
 s event is free and open to all. Signup is required. Sign up online here, 
 by telephone at 224-543-1485, or in person at the library. Physical Acti
 vityBy joining this class, you declare that you are physically fit and rea
 dy to participate and understand any physical activity may involve some r
 isk of injury. You may rest at any time during the class. It is your respo
 nsibility to consult with your physician with respect to any past or prese
 nt injury, illness, health problem, or any other condition or medication t
 hat may affect your participation.The participant assumes all risks of inj
 ury and illness that may result from such participation. The participant a
 grees to waive and release the Vernon Area Public Library, its officers, e
 mployees, trustees, and agents and shall hold such persons/entity harmless
  from any and all liability for any claim, suit, or other cause of action
  which might arise from injuries, illness, damages, or loss which may occu
 r on account of participation in such activities.
URL:https://calendar.vapld.info/event/yoga-workshop-97741
END:VEVENT
END:VCALENDAR
