BEGIN:VCALENDAR
VERSION:2.0
PRODID:-//Library Market//iCal Export//EN
BEGIN:VEVENT
SUMMARY:Reading Buddies
UID:97411
DTSTAMP:20260424T123600Z
DTSTART:20260617T230000Z
DTEND:20260618T000000Z
LOCATION:Vernon Area Public Library, 300 Olde Half Day Rd, Lincolnshire, I
 L 60069, United States
ROOM: Meeting Room
DESCRIPTION:Grades 1-5. While our beloved K9 friends are off enjoying a we
 ll‑deserved break, join us for reading with Junior Volunteers. They will
  listen patiently while your grade school student reads aloud, helping bui
 ld confidence and encourage reading. The only thing missing is a wagging t
 ail! REGISTER for a 15-minute appointment beginning 30 days before the pr
 ogram: call 224-543-1486 or signup at the Youth Desk. (Sorry, no online r
 egistration.) Registration opens on Monday, May 18th at 9 am.
URL:https://calendar.vapld.info/event/reading-buddies-97411
END:VEVENT
END:VCALENDAR
