BEGIN:VCALENDAR
VERSION:2.0
PRODID:-//Library Market//iCal Export//EN
BEGIN:VEVENT
SUMMARY:Teen Book Chat
UID:97401
DTSTAMP:20260426T011900Z
DTSTART:20260610T230000Z
DTEND:20260611T000000Z
LOCATION:Vernon Area Public Library, 4 Indian Creek Rd., Lincolnshire, IL 
 60069, United States
ROOM: Library Learning Garden
DESCRIPTION:Grades 6-12. It’s time to read, chat, snack, connect, and sh
 are with your fellow book lovers in this informal book chat for teens. We 
 will discuss books of all sorts (regardless of genres or formats). Teen li
 brarians will choose books to highlight and discuss, as well as showcase s
 ome new and upcoming titles. You can also bring your own books to read or 
 share.This discussion group is free and open to students in grades 6-12. S
 ignup is required. Sign up online here, by telephone at 224-543-1486, or i
 n person at the Youth Desk in the library.
URL:https://calendar.vapld.info/event/teen-book-chat-97401
END:VEVENT
END:VCALENDAR
