BEGIN:VCALENDAR
VERSION:2.0
PRODID:-//Library Market//iCal Export//EN
BEGIN:VEVENT
SUMMARY:Python Basics Part 2 (5 pm)
UID:97387
DTSTAMP:20260424T232700Z
DTSTART:20260722T220000Z
DTEND:20260722T230000Z
LOCATION:Vernon Area Public Library, 300 Olde Half Day Rd, Lincolnshire, I
 L 60069, United States
ROOM: Youth Program Room
DESCRIPTION:Grades 6-12. This is part 2 of Python Basics. To attend, you 
 must be proficient in: Strings, Integers, Floats, and Booleans, as well as
  creating math equations using Python. If you are not familiar with these,
  please attend Python Basics Part 1 on July 15 before registering. This e
 vent is free and open to students in grades 6-12. Signup is required. Sig
 n up online here, by telephone at 224-543-1486, or in person at the libra
 ry.
URL:https://calendar.vapld.info/event/python-basics-part-2-500-pm-97387
END:VEVENT
END:VCALENDAR
