BEGIN:VCALENDAR
VERSION:2.0
PRODID:-//Library Market//iCal Export//EN
BEGIN:VEVENT
SUMMARY:Python Basics Part 1 (7 pm)
UID:97381
DTSTAMP:20260424T220300Z
DTSTART:20260716T000000Z
DTEND:20260716T010000Z
LOCATION:Vernon Area Public Library, 300 Olde Half Day Rd, Lincolnshire, I
 L 60069, United States
ROOM: Youth Program Room
DESCRIPTION:Grades 6-12. Learn the basics of Python coding and apply it to
  practical applications. Please sign up for one session.This event is free
  and open to students in grades 6-12. Signup is required. Sign up online 
 here, by telephone at 224-543-1486, or in person at the library.
URL:https://calendar.vapld.info/event/python-basics-part-1-700-pm-97381
END:VEVENT
END:VCALENDAR
