BEGIN:VCALENDAR
VERSION:2.0
PRODID:-//Library Market//iCal Export//EN
BEGIN:VEVENT
SUMMARY:Python Basics Part 1 (5 pm)
UID:97380
DTSTAMP:20260424T220300Z
DTSTART:20260715T220000Z
DTEND:20260715T230000Z
LOCATION:Vernon Area Public Library, 300 Olde Half Day Rd, Lincolnshire, I
 L 60069, United States
ROOM: Youth Program Room
DESCRIPTION:Grades 6-12. Learn the basics of Python coding and apply it to
  practical applications. Please sign up for one session.This event is free
  and open to students in grades 6-12. Signup is required. Sign up online 
 here, by telephone at 224-543-1486, or in person at the library.
URL:https://calendar.vapld.info/event/python-basics-part-1-500-pm-97380
END:VEVENT
END:VCALENDAR
