BEGIN:VCALENDAR
VERSION:2.0
PRODID:-//Library Market//iCal Export//EN
BEGIN:VEVENT
SUMMARY:Games for Grown-ups
UID:96818
DTSTAMP:20260421T144900Z
DTSTART:20260719T173000Z
DTEND:20260719T213000Z
LOCATION:Vernon Area Public Library, 300 Olde Half Day Rd, Lincolnshire, I
 L 60069, United States
ROOM: Meeting Room
DESCRIPTION:Games for Grownups is available in-person or online. Select yo
 ur format below.Join a game of chess, Settlers of Catan, Ticket to Ride, C
 arcassonne, Crokinole, or other popular board games. Open to adults and hi
 gh school students of all skill levels. If you&#039;re a fan of tabletop 
 and Jackbox games, you can participate online with the library&#039;s gami
 ng community. Discord is an online platform featuring live chat. Once you&
 #039;re on the library&#039;s Discord server, you&#039;ll be able to choos
 e what to play, arrange a group, share a board, and text or voice chat wit
 h your fellow gamers. No experience necessary. Link here for the Games fo
 r Grownups server.This event is free and open to all. Signup is required. 
 Sign up online here, by telephone at 224-543-1485, or in person at the li
 brary.
URL:https://calendar.vapld.info/event/games-grown-ups-96818
END:VEVENT
END:VCALENDAR
