BEGIN:VCALENDAR
VERSION:2.0
PRODID:-//Library Market//iCal Export//EN
BEGIN:VEVENT
SUMMARY:Family Concert: Todd Downing
UID:96808
DTSTAMP:20260425T011000Z
DTSTART:20260814T150000Z
DTEND:20260814T154500Z
LOCATION:Vernon Area Public Library, 4 Indian Creek Rd., Lincolnshire, IL 
 60069, United States
ROOM: Library Learning Garden
DESCRIPTION:All ages. Get ready for some tall tales and silly songs! Mov
 e and groove with Todd as he weaves some whoppers into lively songs to del
 ight the whole family.This event is free and open to families with childre
 n. Signup is required. Sign up online here, by telephone at 224-543-1486, 
 or in person at the library.
URL:https://calendar.vapld.info/event/family-concert-todd-downing-96808
END:VEVENT
END:VCALENDAR
