BEGIN:VCALENDAR
VERSION:2.0
PRODID:-//Library Market//iCal Export//EN
BEGIN:VEVENT
SUMMARY:Book Trails Walking Club
UID:96737
DTSTAMP:20260421T222800Z
DTSTART:20260825T213000Z
DTEND:20260825T223000Z
LOCATION:Half Day Forest Preserve, 24255 IL-21 / 2455 Milwaukee Avenue, Ve
 rnon Hills, IL 60061, United States
ROOM: Book Trails Walking Club
DESCRIPTION:Book lovers, this is your chance to chat about favorites while
  enjoying nature. There&#039;s no required reading. Just come prepared to 
 talk about books with fellow participants.Meeting spot: We will meet at th
 e first parking lot on the right when you enter the property and walk for 
 one hour.  You might consider bring a hat, water, and sunscreen or buy sp
 ray. Good walking shoes, of course! This event is free and open to all. S
 ignup is required. Sign up online here, by telephone at 224-543-1485, or 
 in person at the library.
URL:https://calendar.vapld.info/event/book-trails-walking-club-96737
END:VEVENT
END:VCALENDAR
