BEGIN:VCALENDAR
VERSION:2.0
PRODID:-//Library Market//iCal Export//EN
BEGIN:VEVENT
SUMMARY:Book Club Bash
UID:96695
DTSTAMP:20260421T165400Z
DTSTART:20260806T000000Z
DTEND:20260806T010000Z
LOCATION:Vernon Area Public Library, 300 Olde Half Day Rd, Lincolnshire, I
 L 60069, United States
ROOM: Meeting Room
DESCRIPTION:Get fresh ideas for your book group or personal reading from R
 andom House rep John Hastie and “The Good Book Fairy,” blogger Lauren 
 Margolin. Now in its 13th year, Book Club Bash remains one of our most po
 pular library programs for adults.This event is free and open to all adult
 s. Signup is required. Sign up online here, by telephone at 224-543-1485, 
 or in person at the library.
URL:https://calendar.vapld.info/event/book-club-bash-96695
END:VEVENT
END:VCALENDAR
