BEGIN:VCALENDAR
VERSION:2.0
PRODID:-//Library Market//iCal Export//EN
BEGIN:VEVENT
SUMMARY:Matt Wilhelm BMX Show
UID:96675
DTSTAMP:20260424T203900Z
DTSTART:20260725T160000Z
DTEND:20260725T164500Z
LOCATION:Vernon Area Public Library, 4 Indian Creek Rd., Lincolnshire, IL 
 60069, United States
ROOM: Library Learning Garden
DESCRIPTION:Grades K-5. Celebrate the end of Summer Library Club with Matt
  Wilhelm&#039;s exciting BMX Stunt Show. Be thrilled and amazed as he crea
 tively mixes BMX bike tricks with his own inspiring stories of beating the
  odds en route to becoming a BMX National Champion.This event is free and 
 open to families with children. Signup is required. Sign up online here, b
 y telephone at 224-543-1486, or in person at the library. 
URL:https://calendar.vapld.info/event/matt-wilhelm-bmx-show-96675
END:VEVENT
END:VCALENDAR
