BEGIN:VCALENDAR
VERSION:2.0
PRODID:-//Library Market//iCal Export//EN
BEGIN:VEVENT
SUMMARY:Summer Finale: Silent Disco
UID:96674
DTSTAMP:20260424T222700Z
DTSTART:20260730T000000Z
DTEND:20260730T010000Z
LOCATION:Vernon Area Public Library, 300 Olde Half Day Rd, Lincolnshire, I
 L 60069, United States
ROOM: Meeting Room
DESCRIPTION:Grades 6-12. Wrap up Summer Library Club with a high-energy si
 lent disco dance party - library style! Don special wireless neon headphon
 es and jam out to dance mixes.This event is free and open to teens in grad
 es 6-12. Signup is required. Sign up online here, by telephone at 224-543-
 1486, or in person at the library.
URL:https://calendar.vapld.info/event/summer-finale-silent-disco-96674
END:VEVENT
END:VCALENDAR
