BEGIN:VCALENDAR
VERSION:2.0
PRODID:-//Library Market//iCal Export//EN
BEGIN:VEVENT
SUMMARY:Off the Page: A Teen Book Club
UID:96448
DTSTAMP:20260424T124500Z
DTSTART:20260616T000000Z
DTEND:20260616T011500Z
LOCATION:Culver&#039;s, 405 Milwaukee Ave, Lincolnshire, IL 60069, United 
 States
ROOM: Off the Page: A Teen Book Club
DESCRIPTION:This month&#039;s discussion is The Last Bookstore on Earth by
  Lily Braun-Arnold.A print copy of this month&#039;s book (yours to keep) 
 is reserved for you when you register. Pick up at the Youth Desk.
URL:https://calendar.vapld.info/event/page-teen-book-club-96448
END:VEVENT
END:VCALENDAR
