BEGIN:VCALENDAR
VERSION:2.0
PRODID:-//Library Market//iCal Export//EN
BEGIN:VEVENT
SUMMARY:Art Workshop: Seeds of Inspiration (Grades 6-12)
UID:96439
DTSTAMP:20260424T203900Z
DTSTART:20260723T233000Z
DTEND:20260724T010000Z
LOCATION:Vernon Area Public Library, 300 Olde Half Day Rd, Lincolnshire, I
 L 60069, United States
ROOM: Meeting Room
DESCRIPTION:Grades 6-12. Young artists will have fun creating their own na
 ture scene and adding a happy, inspiring message! Weâ€™ll use colorful col
 lage papers, colored pencils, fine-line markersâ€”and lots of imaginationâ
 €”to make artwork thatâ€™s truly one of a kind. Â Presented by artist and 
 illustrator Terri Murphy. No experience necessary. All supplies provided.T
 his event is free and open to grades 6-12. Signup is required. Sign up onl
 ine here, by telephone at 224-543-1486, or in person at the library.Â 
URL:https://calendar.vapld.info/event/art-workshop-seeds-inspiration-grade
 s-6-12-96439
END:VEVENT
END:VCALENDAR
