BEGIN:VCALENDAR
VERSION:2.0
PRODID:-//Library Market//iCal Export//EN
BEGIN:VEVENT
SUMMARY:Art Workshop: Seeds of Inspiration (Grades 3-5)
UID:96438
DTSTAMP:20260424T203900Z
DTSTART:20260723T213000Z
DTEND:20260723T230000Z
LOCATION:Vernon Area Public Library, 300 Olde Half Day Rd, Lincolnshire, I
 L 60069, United States
ROOM: Meeting Room
DESCRIPTION:Grades 3-5. Young artists will have fun creating their own nat
 ure scene with a happy, inspiring message. We’ll use colorful collage pa
 pers, colored pencils, fine-line markers—and lots of imagination—to ma
 ke artwork that’s truly one of a kind. Presented by artist and illustrat
 or Terri Murphy. No experience necessary. All supplies provided.This event
  is free and open to children in grades 3-5. Signup is required. Sign up o
 nline here, by telephone at 224-543-1486, or in person at the library. 
URL:https://calendar.vapld.info/event/art-workshop-seeds-inspiration430-pm
 -96438
END:VEVENT
END:VCALENDAR
