BEGIN:VCALENDAR
VERSION:2.0
PRODID:-//Library Market//iCal Export//EN
BEGIN:VEVENT
SUMMARY:Frog Lady &amp; Friends in the Garden
UID:96431
DTSTAMP:20260424T123600Z
DTSTART:20260616T213000Z
DTEND:20260616T223000Z
LOCATION:Vernon Area Public Library, 4 Indian Creek Rd., Lincolnshire, IL 
 60069, United States
ROOM: Library Learning Garden
DESCRIPTION:Grades K-5 with an adult. A library favorite! The Frog Lady b
 rings her frogs and friends to the library. Learn more about her favorite 
 amphibians and reptiles and see them up close.This event is free and open 
 to all children in grades K-5 with an adult. Signup is required. Sign up o
 nline here, by telephone at 224-543-1486, or in person at the library.
URL:https://calendar.vapld.info/event/frog-lady-friends-garden-96431
END:VEVENT
END:VCALENDAR
