BEGIN:VCALENDAR
VERSION:2.0
PRODID:-//Library Market//iCal Export//EN
BEGIN:VEVENT
SUMMARY:Cowgirl Friends Storytime
UID:96429
DTSTAMP:20260424T143300Z
DTSTART:20260627T170000Z
DTEND:20260627T180000Z
LOCATION:Vernon Area Public Library, 300 Olde Half Day Rd, Lincolnshire, I
 L 60069, United States
ROOM: Meeting Room
DESCRIPTION:Ages 2 and up with adult. Listen to stories with a favorite Co
 wgirl friend, then stay for a meet and greet and photo op.This event is fr
 ee and open to families with children ages 2 and up. Signup is required. S
 ign up online here, by telephone at 224-543-1486, or in person at the lib
 rary.
URL:https://calendar.vapld.info/event/toy-story-friends-storytime-96429
END:VEVENT
END:VCALENDAR
