BEGIN:VCALENDAR
VERSION:2.0
PRODID:-//Library Market//iCal Export//EN
BEGIN:VEVENT
SUMMARY:Family Concert: Miss Katie Sings
UID:96426
DTSTAMP:20260424T191400Z
DTSTART:20260717T150000Z
DTEND:20260717T154500Z
LOCATION:Vernon Area Public Library, 4 Indian Creek Rd., Lincolnshire, IL 
 60069, United States
ROOM: Library Learning Garden
DESCRIPTION:All ages. Bring the family for an outdoor concert with Chicag
 o-area favorite Miss Katie Sings. Miss Katie has taught at the Old Town S
 chool of Folk Music, performed throughout the U.S., as well as virtually f
 or families across the world. Her performances aim to make her young audi
 ence feel valued, creative, and seen.This event is free and open to all fa
 milies with children. Signup is required. Sign up online here, by telephon
 e at 224-543-1486, or in person at the library.
URL:https://calendar.vapld.info/event/family-concert-miss-katie-sings-9642
 6
END:VEVENT
END:VCALENDAR
