BEGIN:VCALENDAR
VERSION:2.0
PRODID:-//Library Market//iCal Export//EN
BEGIN:VEVENT
SUMMARY:Family Concert: Justin Roberts
UID:96423
DTSTAMP:20260424T235200Z
DTSTART:20260808T160000Z
DTEND:20260808T164500Z
LOCATION:Vernon Area Public Library, 4 Indian Creek Rd., Lincolnshire, IL 
 60069, United States
ROOM: Library Learning Garden
DESCRIPTION:All ages. Sing and dance with four-time GRAMMY nominee Justin 
 Roberts, one of the founders of the modern family music scene. For 25 year
 s, Roberts has been creating the soundtrack to families’ lives, helping 
 kids navigate the joys and sorrows of growing up, while inspiring parents 
 to remember their own childhoods. His songs are the kind of get-stuck-in-y
 our-head pop nuggets that draw comparisons to Elvis Costello, Fountains of
  Wayne, and Paul Simon rather than simple nursery rhymes, prompting USA To
 day to call him “hands-down the best songwriter in the genre.This event 
 is free and open to families with children. Signup is required. Sign up on
 line here, by telephone at 224-543-1486, or in person at the library. 
URL:https://calendar.vapld.info/event/family-concert-justin-roberts-96423
END:VEVENT
END:VCALENDAR
