BEGIN:VCALENDAR
VERSION:2.0
PRODID:-//Library Market//iCal Export//EN
BEGIN:VEVENT
SUMMARY:Rendezvous with Rachel Revere™
UID:96296
DTSTAMP:20260421T210300Z
DTSTART:20260820T180000Z
DTEND:20260820T191500Z
LOCATION:Vernon Area Public Library, 300 Olde Half Day Rd, Lincolnshire, I
 L 60069, United States
ROOM: Meeting Room
DESCRIPTION:During May 1775, Rachel Revere had only heard from her beloved
  husband Paul once since his legendary midnight ride. Rachel desperately t
 ries to unite her family, amidst the wake of an American Revolution. Her s
 tory captivates audiences in an immersive living history program with Hist
 ory At Play™, LLC Founder and Artistic Director Judith Kalaora. This ev
 ent is free and open to all. Signup is required. Sign up online here, by t
 elephone at 224-543-1485, or in person at the library.    
URL:https://calendar.vapld.info/event/rendezvous-rachel-reveretm-96296
END:VEVENT
END:VCALENDAR
