BEGIN:VCALENDAR
VERSION:2.0
PRODID:-//Library Market//iCal Export//EN
BEGIN:VEVENT
SUMMARY:Vegetarian Entrees Explored with Chef Susan Maddox
UID:96295
DTSTAMP:20260421T165400Z
DTSTART:20260819T000000Z
DTEND:20260819T010000Z
LOCATION:Vernon Area Public Library, 300 Olde Half Day Rd, Lincolnshire, I
 L 60069, United States
ROOM: Meeting Room
DESCRIPTION:Broaden your palette of cooking methods and techniques for veg
 etarian entrees with Chef Susan Maddox. Whether you’re a lifelong plant-
 based eater, or are just looking for healthy recipe ideas for meatless Mon
 days, you and your family will enjoy these incredible vegetarian dinners. 
 Recipes are provided. This event is free and open to all. Signup is requi
 red. Sign up online here, by telephone at 224-543-1485, or in person at t
 he library. 
URL:https://calendar.vapld.info/event/cooking-vegetarian-entrees-96295
END:VEVENT
END:VCALENDAR
