BEGIN:VCALENDAR
VERSION:2.0
PRODID:-//Library Market//iCal Export//EN
BEGIN:VEVENT
SUMMARY:Illinois History in 10 Objects
UID:96294
DTSTAMP:20260421T070400Z
DTSTART:20260811T180000Z
DTEND:20260811T190000Z
LOCATION:Vernon Area Public Library, 300 Olde Half Day Rd, Lincolnshire, I
 L 60069, United States
ROOM: Meeting Room
DESCRIPTION:In commemoration of America 250, this program takes a look at 
 Illinois history through the lens of ten objects from the collection of th
 e Illinois State Museum, with Erika Holst, Curator of History. Each of the
 se objects sheds light on the experiences of the people who used them agai
 nst the backdrop of different times in Illinois history.Attendees are enco
 uraged to bring an object (or photo of an object) of personal or family si
 gnificance. At the end of the presentation, you will be invited to give vo
 ice to your own family and personal stories by sharing the stories associa
 ted with these objects. This event is free and open to all. Signup is req
 uired. Sign up online here, by telephone at 224-543-1485, or in person at
  the library.
URL:https://calendar.vapld.info/event/illinois-history-10-objects-96294
END:VEVENT
END:VCALENDAR
