BEGIN:VCALENDAR
VERSION:2.0
PRODID:-//Library Market//iCal Export//EN
BEGIN:VEVENT
SUMMARY:Outdoor Concert: The Stories and Songs of Neil Diamond
UID:96291
DTSTAMP:20260421T165400Z
DTSTART:20260804T180000Z
DTEND:20260804T190000Z
LOCATION:Vernon Area Public Library, 4 Indian Creek Rd., Lincolnshire, IL 
 60069, United States
ROOM: Library Learning Garden
DESCRIPTION:An unforgettable tribute celebrating the tunes of the legendar
 y Neil Diamond, performed by musician Denny Diamond. This uplifting perfor
 mance features the popular songs – plus the tales behind the melodies. 
 This event is free and open to all. Signup is required. Sign up online her
 e, by telephone at 224-543-1485, or in person at the library.  
URL:https://calendar.vapld.info/event/outdoor-concert-aa-neil-diamond-stor
 y-96291
END:VEVENT
END:VCALENDAR
