BEGIN:VCALENDAR
VERSION:2.0
PRODID:-//Library Market//iCal Export//EN
BEGIN:VEVENT
SUMMARY:Inside Adaptive Sports: Athletes in Conversation
UID:96290
DTSTAMP:20260421T132000Z
DTSTART:20260722T000000Z
DTEND:20260722T010000Z
LOCATION:Vernon Area Public Library, 300 Olde Half Day Rd, Lincolnshire, I
 L 60069, United States
ROOM: Meeting Room
DESCRIPTION:Discover the inspiring world of adaptive sports, where athlete
 s with physical or visual disabilities take on new challenges through both
  recreational and competitive opportunities. A panel of athletes from the 
 Great Lakes Adaptive Sports Association (GLASA) share their stories of tr
 aining and competing in sports such as pickleball, swimming, basketball, s
 led hockey, football, and powerlifting. Learn how participation in adaptiv
 e sports fosters confidence, resilience, and empowerment—helping individ
 uals reach their fullest potential in every aspect of life. This event is
  free and open to all. Signup is required. Sign up online here, by telepho
 ne at 224-543-1485, or in person at the library. 
URL:https://calendar.vapld.info/event/inside-adaptive-sports-athletes-conv
 ersation-96290
END:VEVENT
END:VCALENDAR
