BEGIN:VCALENDAR
VERSION:2.0
PRODID:-//Library Market//iCal Export//EN
BEGIN:VEVENT
SUMMARY:Tour of Vernon Cemetery
UID:96273
DTSTAMP:20260421T144900Z
DTSTART:20260719T180000Z
DTEND:20260719T190000Z
LOCATION:Vernon Cemetery, 15215 Cemetery Rd, Lincolnshire, IL 60069, Unite
 d States
ROOM: Tour of Vernon Cemetery
DESCRIPTION:Take a walking tour with local history expert and librarian Li
 sa Marie Smith to learn the compelling stories about some of Vernon&#039;s
  most heroic veterans.Dress for the outdoors and for walking uneven terrai
 n. Meet at the cemetery entrance at 15215 Cemetery Road, Lincolnshire, jus
 t north of the Village Green. This event is free and open to all. Signup 
 is required. Sign up online here, by telephone at 224-543-1485, or in per
 son at the library.
URL:https://calendar.vapld.info/event/tour-vernon-cemetery-96273
END:VEVENT
END:VCALENDAR
