BEGIN:VCALENDAR
VERSION:2.0
PRODID:-//Library Market//iCal Export//EN
BEGIN:VEVENT
SUMMARY:Summer Library Celebration
UID:96265
DTSTAMP:20260421T132000Z
DTSTART:20260606T180000Z
DTEND:20260606T200000Z
LOCATION:Vernon Area Public Library, 300 Olde Half Day Rd, Lincolnshire, I
 L 60069, United States
ROOM: Summer Library Celebration
DESCRIPTION:Celebrate Summer Library Club with fun activities for all ages
 . Enjoy frozen treats from Culvers (while supplies last), live music from
  the Old Town School of Folk Music on our front porch, and a giant bubble 
 show. Sign up for Summer Library Club and get a free t-shirt (for kids in 
 grades 5 &amp; under) thanks to the Foundation for the Vernon Area Public 
 Library District and generous sponsors. This event is free and open to al
 l. No signup required.  
URL:https://calendar.vapld.info/event/summer-library-celebration-96265
END:VEVENT
END:VCALENDAR
