BEGIN:VCALENDAR
VERSION:2.0
PRODID:-//Library Market//iCal Export//EN
BEGIN:VEVENT
SUMMARY:Summer in the Shire Concert: One Foot in the Groove
UID:95959
DTSTAMP:20260421T132000Z
DTSTART:20260619T000000Z
DTEND:20260619T020000Z
LOCATION:Vernon Area Public Library, 4 Indian Creek Rd., Lincolnshire, IL 
 60069, United States
ROOM: Library Learning Garden
DESCRIPTION:Outdoors in the Library Learning Garden.Experience the unforge
 ttable sound of your favorite hits from legendary rock bands like Blood, S
 weat &amp; Tears, Chicago, Earth, Wind &amp; Fire, and The Blues Brothersâ
 €”all brought to life with the electrifying energy of One Foot in the Groo
 ve. This powerhouse 8-piece band, with a bold, hard-hitting brass section 
 at the forefront, delivers rich harmonies, irresistible grooves, and the k
 ind of high-octane performance that gets everyone on their feet. Presented
  in partnership with the Village of Lincolnshire.Â Bring a lawn chair or b
 lanket.Â This event is free and open to all. Signup is not required.Â In c
 ase of inclement weather, the concert will be cancelled. Check the calenda
 r here and library social media for updates.Â Â 
URL:https://calendar.vapld.info/event/summer-shire-concert-series-95959
END:VEVENT
END:VCALENDAR
