BEGIN:VCALENDAR
VERSION:2.0
PRODID:-//Library Market//iCal Export//EN
BEGIN:VEVENT
SUMMARY:Firefly Family Theatre Presents Under the Stars
UID:95893
DTSTAMP:20260424T161000Z
DTSTART:20260630T150000Z
DTEND:20260630T154500Z
LOCATION:Vernon Area Public Library, 300 Olde Half Day Rd, Lincolnshire, I
 L 60069, United States
ROOM: Meeting Room
DESCRIPTION:Ages 2-7 with an adult. Join Spark the Firefly and her friends
  for a summer night in Firefly Grove. Gather around the campfire to sing s
 ongs, listen to stories, and watch the stars. Under the Stars includes p
 uppets, original music, interactive movement, and lots of summer fun for f
 amilies!This event is free and open to children ages 2-7 with an adult. Si
 gnup is required. Sign up online here, by telephone at 224-543-1486, or in
  person at the library.
URL:https://calendar.vapld.info/event/firefly-family-theatre-presents-unde
 r-stars-95893
END:VEVENT
END:VCALENDAR
