BEGIN:VCALENDAR
VERSION:2.0
PRODID:-//Library Market//iCal Export//EN
BEGIN:VEVENT
SUMMARY:Buffalo Grove National Night Out
UID:95838
DTSTAMP:20260424T235200Z
DTSTART:20260804T223000Z
DTEND:20260805T003000Z
LOCATION:Mike Rylko Community park, 951 McHenry Road, Buffalo Grove, IL 60
 089, United States
ROOM: Buffalo Grove National Night Out
DESCRIPTION:Visit the library&#039;s table at Buffalo Grove National Night
  Out at Mike Rylko Community Park.
URL:https://calendar.vapld.info/event/buffalo-grove-national-night-out-958
 38
END:VEVENT
END:VCALENDAR
