BEGIN:VCALENDAR
VERSION:2.0
PRODID:-//Library Market//iCal Export//EN
BEGIN:VEVENT
SUMMARY:Buffalo Grove Pride Picnic
UID:95837
DTSTAMP:20260426T011900Z
DTSTART:20260607T163000Z
DTEND:20260607T193000Z
LOCATION:Mike Rylko Community Park, 1000 N. Buffalo Grove Road, Buffalo Gr
 ove, IL 60089, United States
ROOM: Buffalo Grove Pride Picnic
DESCRIPTION:Visit the library&#039;s table at the Buffalo Grove Pride Picn
 ic, immediately following the Buffalo Grove Pride Parade. 
URL:https://calendar.vapld.info/event/buffalo-grove-pride-picnic-95837
END:VEVENT
END:VCALENDAR
