BEGIN:VCALENDAR
VERSION:2.0
PRODID:-//Library Market//iCal Export//EN
BEGIN:VEVENT
SUMMARY:Books &amp; Badges: Stories with the Police
UID:95834
DTSTAMP:20260426T011900Z
DTSTART:20260612T150000Z
DTEND:20260612T160000Z
LOCATION:Vernon Area Public Library, 4 Indian Creek Rd., Lincolnshire, IL 
 60069, United States
ROOM: Library Learning Garden
DESCRIPTION:Ages 0-Grade 5. Stories and summer safety tips with law enforc
 ement officers from Lincolnshire and Buffalo Grove -- plus a peek inside t
 heir squad cars and trucks!This event is free and open to all families wit
 h children through grade 5. Signup is required. Sign up here, by telephone
  at 224-543-1486, or in person at the library.
URL:https://calendar.vapld.info/event/books-badges-stories-police-95834
END:VEVENT
END:VCALENDAR
