BEGIN:VCALENDAR
VERSION:2.0
PRODID:-//Library Market//iCal Export//EN
BEGIN:VEVENT
SUMMARY:Qigong &amp; Tai Chi Workshop in the Garden
UID:95827
DTSTAMP:20260422T020400Z
DTSTART:20260716T143000Z
DTEND:20260716T153000Z
LOCATION:Vernon Area Public Library, 4 Indian Creek Rd., Lincolnshire, IL 
 60069, United States
ROOM: Library Learning Garden
DESCRIPTION:Develop your strength, mobility, and balance while brightening
  your mood with Qigong and Tai Chi led by an instructor from Body &amp; Br
 ain. Qigong principles and techniques exercise the body and calm the mind.
  Learn various forms and movements to build your strength, release tension
 , and melt away stress from your daily life. Â Please bring a mat, water b
 ottle, sunscreen, and a hat. In the event of inclement weather, the sessio
 n will be held indoors.This program is part of the library&#039;s yearlong
  Wellness Series. This event is free and open to all. Signup is required. 
 Sign up online here, by telephone atÂ 224-543-1485, or in person at the li
 brary.Physical ActivityBy joining this class, you declare that you are phy
 sically fit and ready to participate and understand any physical activityÂ
  may involve some risk of injury. You may rest at any time during the clas
 s. It is your responsibility to consult with your physician with respect t
 o any past or present injury, illness, health problem, or any other condit
 ion or medication that may affect your participation.The participant assum
 es all risks of injury and illness that may result from such participation
 . The participant agrees to waive and release the Vernon Area Public Libra
 ry, its officers, employees, trustees, and agents and shall hold such pers
 ons/entity harmless from any and allÂ liability for any claim, suit, or ot
 her cause of action which might arise from injuries, illness, damages, or 
 loss which may occur on account of participation in such activities.
URL:https://calendar.vapld.info/event/qigong-tai-chi-workshop-95827
END:VEVENT
END:VCALENDAR
