BEGIN:VCALENDAR
VERSION:2.0
PRODID:-//Library Market//iCal Export//EN
BEGIN:VEVENT
SUMMARY:Outdoor Concert: Corner Boys
UID:95825
DTSTAMP:20260421T114600Z
DTSTART:20260707T180000Z
DTEND:20260707T190000Z
LOCATION:Vernon Area Public Library, 4 Indian Creek Rd., Lincolnshire, IL 
 60069, United States
ROOM: Library Learning Garden
DESCRIPTION:Acoustic trio, Corner Boys, performs favorite songs from Lyle 
 Lovett to Michael Jackson to Bruce Springsteen. The name &quot;Corner Boy
 s&quot; references an East Coast tradition of late-night harmonies sung on
  the street corner.This event is free and open to all. Signup is required.
  Sign up online here, by telephone at 224-543-1485, or in person at the l
 ibrary.Notes: This outdoor concert is in the Library Learning Garden. Bri
 ng a chair; a hat and bottle of water is recommended. If the weather is b
 ad, this performance will move indoors to the main Meeting Room. 
URL:https://calendar.vapld.info/event/outdoor-concert-corner-boys-95825
END:VEVENT
END:VCALENDAR
