BEGIN:VCALENDAR
VERSION:2.0
PRODID:-//Library Market//iCal Export//EN
BEGIN:VEVENT
SUMMARY:Family Foam Party
UID:95819
DTSTAMP:20260424T141600Z
DTSTART:20260626T150000Z
DTEND:20260626T160000Z
LOCATION:Vernon Area Public Library, 4 Indian Creek Rd., Lincolnshire, IL 
 60069, United States
ROOM: Library Learning Garden
DESCRIPTION:Ages 0-Grade 5. Dance and play in billions of tiny bubbles at 
 the library&#039;s foam party. Chicago Foam Company brings their high-powe
 red foam cannon and a family-friendly playlist to the library lawn to kick
  off a fun Family Friday.  Dress to get wet, and please bring a towel - t
 hey will not be provided!This event is free and open to families with chil
 dren. Signup is required. Sign up online here, by telephone at 224-543-14
 86, or in person at the library.
URL:https://calendar.vapld.info/event/family-foam-party-95819
END:VEVENT
END:VCALENDAR
