BEGIN:VCALENDAR
VERSION:2.0
PRODID:-//Library Market//iCal Export//EN
BEGIN:VEVENT
SUMMARY:Family Concert: Sarah Jayne Lane
UID:95792
DTSTAMP:20260426T011900Z
DTSTART:20260613T160000Z
DTEND:20260613T164500Z
LOCATION:Vernon Area Public Library, 4 Indian Creek Rd., Lincolnshire, IL 
 60069, United States
ROOM: Library Learning Garden
DESCRIPTION:All ages. A Chicagoland favorite, Sarah Jayne Lane sings and 
 plays guitar in a rollicking performance of kindie rock and pop songs reto
 oled for young listeners. Don’t miss this jammin’ good time!This event
  is free and open to families with children. Signup is required. Sign up o
 nline here, by telephone at 224-543-1486, or in person at the library.
URL:https://calendar.vapld.info/event/family-concert-sarah-jayne-lane-9579
 2
END:VEVENT
END:VCALENDAR
